Package: svaNUMT Version: 1.13.0 Command: rm -rf svaNUMT.buildbin-libdir && mkdir svaNUMT.buildbin-libdir && /Users/biocbuild/BBS/utils/build-universal.sh svaNUMT_1.13.0.tar.gz /Library/Frameworks/R.framework/Resources/bin/R svaNUMT.buildbin-libdir StartedAt: 2025-02-20 22:37:28 -0500 (Thu, 20 Feb 2025) EndedAt: 2025-02-20 22:37:46 -0500 (Thu, 20 Feb 2025) EllapsedTime: 17.4 seconds RetCode: 0 Status: OK PackageFile: svaNUMT_1.13.0.tgz PackageFileSize: 755.4 KiB