Package: survcomp Version: 1.57.0 Command: E:\biocbuild\bbs-3.21-bioc\R\bin\R.exe CMD INSTALL survcomp StartedAt: 2025-02-20 16:59:52 -0500 (Thu, 20 Feb 2025) EndedAt: 2025-02-20 17:00:22 -0500 (Thu, 20 Feb 2025) EllapsedTime: 30.5 seconds RetCode: 0 Status: OK