Package: survcomp Version: 1.57.0 Command: E:\biocbuild\bbs-3.21-bioc\R\bin\R.exe CMD check --no-multiarch --install=check:survcomp.install-out.txt --library=E:\biocbuild\bbs-3.21-bioc\R\library --no-vignettes --timings survcomp_1.57.0.tar.gz StartedAt: 2025-02-21 06:20:28 -0500 (Fri, 21 Feb 2025) EndedAt: 2025-02-21 06:21:49 -0500 (Fri, 21 Feb 2025) EllapsedTime: 80.8 seconds RetCode: 0 Status: OK CheckDir: survcomp.Rcheck Warnings: 0