Package: survcomp Version: 1.57.0 Command: rm -rf survcomp.buildbin-libdir && mkdir survcomp.buildbin-libdir && E:\biocbuild\bbs-3.21-bioc\R\bin\R.exe CMD INSTALL --build --library=survcomp.buildbin-libdir survcomp_1.57.0.tar.gz StartedAt: 2025-02-21 09:13:14 -0500 (Fri, 21 Feb 2025) EndedAt: 2025-02-21 09:13:41 -0500 (Fri, 21 Feb 2025) EllapsedTime: 26.4 seconds RetCode: 0 Status: OK PackageFile: survcomp_1.57.0.zip PackageFileSize: 855.5 KiB