Package: survcomp Version: 1.57.0 Command: /home/biocbuild/R/R/bin/R CMD check --install=check:survcomp.install-out.txt --library=/home/biocbuild/R/R/site-library --no-vignettes --timings survcomp_1.57.0.tar.gz StartedAt: 2025-01-28 15:55:01 -0000 (Tue, 28 Jan 2025) EndedAt: 2025-01-28 15:56:26 -0000 (Tue, 28 Jan 2025) EllapsedTime: 85.1 seconds RetCode: 0 Status: OK CheckDir: survcomp.Rcheck Warnings: 0