Package: survClust Version: 1.1.0 Command: /home/biocbuild/bbs-3.21-bioc/R/bin/R CMD INSTALL survClust StartedAt: 2025-02-17 15:18:57 -0500 (Mon, 17 Feb 2025) EndedAt: 2025-02-17 15:19:25 -0500 (Mon, 17 Feb 2025) EllapsedTime: 27.5 seconds RetCode: 0 Status: OK