Package: survClust Version: 1.1.0 Command: /home/biocbuild/bbs-3.21-bioc/R/bin/R CMD check --install=check:survClust.install-out.txt --library=/home/biocbuild/bbs-3.21-bioc/R/site-library --timings survClust_1.1.0.tar.gz StartedAt: 2025-02-18 02:46:57 -0500 (Tue, 18 Feb 2025) EndedAt: 2025-02-18 02:49:42 -0500 (Tue, 18 Feb 2025) EllapsedTime: 165.3 seconds RetCode: 0 Status: WARNINGS CheckDir: survClust.Rcheck Warnings: 1