Package: survClust Version: 1.1.0 Command: /Library/Frameworks/R.framework/Resources/bin/R CMD INSTALL survClust StartedAt: 2025-02-17 15:30:37 -0500 (Mon, 17 Feb 2025) EndedAt: 2025-02-17 15:31:13 -0500 (Mon, 17 Feb 2025) EllapsedTime: 36.2 seconds RetCode: 0 Status: OK