Package: survClust Version: 1.1.0 Command: /Library/Frameworks/R.framework/Resources/bin/R CMD check --install=check:survClust.install-out.txt --library=/Library/Frameworks/R.framework/Resources/library --no-vignettes --timings survClust_1.1.0.tar.gz StartedAt: 2025-02-17 23:32:36 -0500 (Mon, 17 Feb 2025) EndedAt: 2025-02-17 23:35:43 -0500 (Mon, 17 Feb 2025) EllapsedTime: 187.2 seconds RetCode: 0 Status: WARNINGS CheckDir: survClust.Rcheck Warnings: 1