Package: survClust Version: 1.1.0 Command: rm -rf survClust.buildbin-libdir && mkdir survClust.buildbin-libdir && /Users/biocbuild/BBS/utils/build-universal.sh survClust_1.1.0.tar.gz /Library/Frameworks/R.framework/Resources/bin/R survClust.buildbin-libdir StartedAt: 2025-02-18 00:50:05 -0500 (Tue, 18 Feb 2025) EndedAt: 2025-02-18 00:50:45 -0500 (Tue, 18 Feb 2025) EllapsedTime: 40.4 seconds RetCode: 0 Status: OK PackageFile: survClust_1.1.0.tgz PackageFileSize: 766.5 KiB