Package: survClust Version: 1.1.0 Command: /Library/Frameworks/R.framework/Resources/bin/R CMD INSTALL survClust StartedAt: 2025-02-17 15:19:51 -0500 (Mon, 17 Feb 2025) EndedAt: 2025-02-17 15:20:01 -0500 (Mon, 17 Feb 2025) EllapsedTime: 10.1 seconds RetCode: 0 Status: OK