Package: survClust Version: 1.1.0 Command: /Library/Frameworks/R.framework/Resources/bin/R CMD build --keep-empty-dirs --no-resave-data survClust StartedAt: 2025-02-17 17:43:44 -0500 (Mon, 17 Feb 2025) EndedAt: 2025-02-17 17:44:29 -0500 (Mon, 17 Feb 2025) EllapsedTime: 44.5 seconds RetCode: 0 Status: OK PackageFile: survClust_1.1.0.tar.gz PackageFileSize: 717.7 KiB