Package: survClust Version: 1.1.0 Command: rm -rf survClust.buildbin-libdir && mkdir survClust.buildbin-libdir && /Users/biocbuild/BBS/utils/build-universal.sh survClust_1.1.0.tar.gz /Library/Frameworks/R.framework/Resources/bin/R survClust.buildbin-libdir StartedAt: 2025-02-17 22:35:52 -0500 (Mon, 17 Feb 2025) EndedAt: 2025-02-17 22:36:04 -0500 (Mon, 17 Feb 2025) EllapsedTime: 12.2 seconds RetCode: 0 Status: OK PackageFile: survClust_1.1.0.tgz PackageFileSize: 762.5 KiB