Package: surfaltr Version: 1.13.0 Command: E:\biocbuild\bbs-3.21-bioc\R\bin\R.exe CMD INSTALL surfaltr StartedAt: 2025-02-19 16:26:04 -0500 (Wed, 19 Feb 2025) EndedAt: 2025-02-19 16:26:32 -0500 (Wed, 19 Feb 2025) EllapsedTime: 28.0 seconds RetCode: 0 Status: OK