Package: surfaltr Version: 1.13.0 Command: rm -rf surfaltr.buildbin-libdir && mkdir surfaltr.buildbin-libdir && /Users/biocbuild/BBS/utils/build-universal.sh surfaltr_1.13.0.tar.gz /Library/Frameworks/R.framework/Resources/bin/R surfaltr.buildbin-libdir StartedAt: 2025-02-20 00:57:43 -0500 (Thu, 20 Feb 2025) EndedAt: 2025-02-20 00:58:08 -0500 (Thu, 20 Feb 2025) EllapsedTime: 25.5 seconds RetCode: 0 Status: OK PackageFile: surfaltr_1.13.0.tgz PackageFileSize: 1.843 MiB