Package: supraHex Version: 1.45.1 Command: /Library/Frameworks/R.framework/Resources/bin/R CMD build --keep-empty-dirs --no-resave-data supraHex StartedAt: 2025-02-18 18:25:12 -0500 (Tue, 18 Feb 2025) EndedAt: 2025-02-18 18:25:25 -0500 (Tue, 18 Feb 2025) EllapsedTime: 12.6 seconds RetCode: 1 Status: ERROR PackageFile: None PackageFileSize: NA