Package: supersigs Version: 1.15.0 Command: /home/biocbuild/bbs-3.21-bioc/R/bin/R CMD build --keep-empty-dirs --no-resave-data supersigs StartedAt: 2025-02-18 19:21:26 -0500 (Tue, 18 Feb 2025) EndedAt: 2025-02-18 19:22:27 -0500 (Tue, 18 Feb 2025) EllapsedTime: 61.1 seconds RetCode: 0 Status: OK PackageFile: supersigs_1.15.0.tar.gz PackageFileSize: 2.595 MiB