Package: supersigs Version: 1.15.0 Command: /Library/Frameworks/R.framework/Resources/bin/R CMD INSTALL supersigs StartedAt: 2025-02-17 15:36:39 -0500 (Mon, 17 Feb 2025) EndedAt: 2025-02-17 15:37:23 -0500 (Mon, 17 Feb 2025) EllapsedTime: 44.0 seconds RetCode: 0 Status: OK