Package: supersigs Version: 1.15.0 Command: /Library/Frameworks/R.framework/Resources/bin/R CMD check --install=check:supersigs.install-out.txt --library=/Library/Frameworks/R.framework/Resources/library --no-vignettes --timings supersigs_1.15.0.tar.gz StartedAt: 2025-02-17 23:32:08 -0500 (Mon, 17 Feb 2025) EndedAt: 2025-02-17 23:36:58 -0500 (Mon, 17 Feb 2025) EllapsedTime: 290.2 seconds RetCode: 0 Status: OK CheckDir: supersigs.Rcheck Warnings: 0