Package: supersigs Version: 1.15.0 Command: rm -rf supersigs.buildbin-libdir && mkdir supersigs.buildbin-libdir && /Users/biocbuild/BBS/utils/build-universal.sh supersigs_1.15.0.tar.gz /Library/Frameworks/R.framework/Resources/bin/R supersigs.buildbin-libdir StartedAt: 2025-02-18 00:50:03 -0500 (Tue, 18 Feb 2025) EndedAt: 2025-02-18 00:50:50 -0500 (Tue, 18 Feb 2025) EllapsedTime: 47.4 seconds RetCode: 0 Status: OK PackageFile: supersigs_1.15.0.tgz PackageFileSize: 5.411 MiB