Package: subSeq Version: 1.37.0 Command: /Library/Frameworks/R.framework/Resources/bin/R CMD build --keep-empty-dirs --no-resave-data subSeq StartedAt: 2025-02-20 18:26:59 -0500 (Thu, 20 Feb 2025) EndedAt: 2025-02-20 18:27:40 -0500 (Thu, 20 Feb 2025) EllapsedTime: 41.1 seconds RetCode: 0 Status: OK PackageFile: subSeq_1.37.0.tar.gz PackageFileSize: 2.917 MiB