Package: structToolbox Version: 1.20.0 Command: /home/biocbuild/bbs-3.21-bioc/R/bin/R CMD INSTALL structToolbox StartedAt: 2025-10-01 15:34:18 -0400 (Wed, 01 Oct 2025) EndedAt: 2025-10-01 15:34:54 -0400 (Wed, 01 Oct 2025) EllapsedTime: 35.7 seconds RetCode: 0 Status: OK