Package: structToolbox Version: 1.20.0 Command: /home/biocbuild/bbs-3.21-bioc/R/bin/R CMD build --keep-empty-dirs --no-resave-data structToolbox StartedAt: 2025-10-01 20:16:02 -0400 (Wed, 01 Oct 2025) EndedAt: 2025-10-01 20:26:39 -0400 (Wed, 01 Oct 2025) EllapsedTime: 637.1 seconds RetCode: 0 Status: OK PackageFile: structToolbox_1.20.0.tar.gz PackageFileSize: 4.767 MiB