Package: structToolbox Version: 1.20.0 Command: rm -rf structToolbox.buildbin-libdir && mkdir structToolbox.buildbin-libdir && /Users/biocbuild/BBS/utils/build-universal.sh structToolbox_1.20.0.tar.gz /Library/Frameworks/R.framework/Resources/bin/R structToolbox.buildbin-libdir StartedAt: 2025-10-07 14:41:26 -0400 (Tue, 07 Oct 2025) EndedAt: 2025-10-07 14:43:11 -0400 (Tue, 07 Oct 2025) EllapsedTime: 105.3 seconds RetCode: 0 Status: OK PackageFile: structToolbox_1.20.0.tgz PackageFileSize: 5.622 MiB