Package: structToolbox Version: 1.20.0 Command: /Library/Frameworks/R.framework/Resources/bin/R CMD INSTALL structToolbox StartedAt: 2025-09-29 16:58:16 -0400 (Mon, 29 Sep 2025) EndedAt: 2025-09-29 16:58:58 -0400 (Mon, 29 Sep 2025) EllapsedTime: 42.9 seconds RetCode: 0 Status: OK