Package: struct Version: 1.20.2 Command: rm -rf struct.buildbin-libdir && mkdir struct.buildbin-libdir && /Users/biocbuild/BBS/utils/build-universal.sh struct_1.20.2.tar.gz /Library/Frameworks/R.framework/Resources/bin/R struct.buildbin-libdir StartedAt: 2025-10-14 14:54:32 -0400 (Tue, 14 Oct 2025) EndedAt: 2025-10-14 14:55:36 -0400 (Tue, 14 Oct 2025) EllapsedTime: 64.1 seconds RetCode: 0 Status: OK PackageFile: struct_1.20.2.tgz PackageFileSize: 1.586 MiB