Package: struct Version: 1.19.0 Command: /home/biocbuild/R/R/bin/R CMD INSTALL struct StartedAt: 2025-01-29 19:39:17 -0000 (Wed, 29 Jan 2025) EndedAt: 2025-01-29 19:39:52 -0000 (Wed, 29 Jan 2025) EllapsedTime: 34.7 seconds RetCode: 0 Status: OK