Package: struct Version: 1.19.0 Command: /home/biocbuild/R/R/bin/R CMD build --keep-empty-dirs --no-resave-data struct StartedAt: 2025-01-28 02:46:40 -0000 (Tue, 28 Jan 2025) EndedAt: 2025-01-28 02:47:34 -0000 (Tue, 28 Jan 2025) EllapsedTime: 54.0 seconds RetCode: 0 Status: OK PackageFile: struct_1.19.0.tar.gz PackageFileSize: 635 KiB