Package: strandCheckR Version: 1.25.0 Command: /Library/Frameworks/R.framework/Resources/bin/R CMD check --install=check:strandCheckR.install-out.txt --library=/Library/Frameworks/R.framework/Resources/library --no-vignettes --timings strandCheckR_1.25.0.tar.gz StartedAt: 2025-02-20 23:36:09 -0500 (Thu, 20 Feb 2025) EndedAt: 2025-02-20 23:40:55 -0500 (Thu, 20 Feb 2025) EllapsedTime: 286.0 seconds RetCode: 0 Status: OK CheckDir: strandCheckR.Rcheck Warnings: 0