Package: strandCheckR Version: 1.25.0 Command: /Library/Frameworks/R.framework/Resources/bin/R CMD build --keep-empty-dirs --no-resave-data strandCheckR StartedAt: 2025-02-20 17:44:15 -0500 (Thu, 20 Feb 2025) EndedAt: 2025-02-20 17:44:40 -0500 (Thu, 20 Feb 2025) EllapsedTime: 24.3 seconds RetCode: 0 Status: OK PackageFile: strandCheckR_1.25.0.tar.gz PackageFileSize: 1.211 MiB