Package: stepNorm Version: 1.79.0 Command: /Library/Frameworks/R.framework/Resources/bin/R CMD check --install=check:stepNorm.install-out.txt --library=/Library/Frameworks/R.framework/Resources/library --no-vignettes --timings stepNorm_1.79.0.tar.gz StartedAt: 2025-02-19 21:44:56 -0500 (Wed, 19 Feb 2025) EndedAt: 2025-02-19 21:45:31 -0500 (Wed, 19 Feb 2025) EllapsedTime: 34.5 seconds RetCode: 0 Status: OK CheckDir: stepNorm.Rcheck Warnings: 0