Package: statTarget Version: 1.37.0 Command: /home/biocbuild/bbs-3.21-bioc/R/bin/R CMD INSTALL statTarget StartedAt: 2025-02-18 15:09:14 -0500 (Tue, 18 Feb 2025) EndedAt: 2025-02-18 15:09:30 -0500 (Tue, 18 Feb 2025) EllapsedTime: 15.4 seconds RetCode: 0 Status: OK