Package: staRank Version: 1.49.1 Command: /home/biocbuild/bbs-3.21-bioc/R/bin/R CMD build --keep-empty-dirs --no-resave-data staRank StartedAt: 2025-02-20 19:29:26 -0500 (Thu, 20 Feb 2025) EndedAt: 2025-02-20 19:29:27 -0500 (Thu, 20 Feb 2025) EllapsedTime: 1.0 seconds RetCode: 1 Status: ERROR PackageFile: None PackageFileSize: NA