Package: staRank Version: 1.49.1 Command: /Library/Frameworks/R.framework/Resources/bin/R CMD INSTALL staRank StartedAt: 2025-02-20 15:31:07 -0500 (Thu, 20 Feb 2025) EndedAt: 2025-02-20 15:31:08 -0500 (Thu, 20 Feb 2025) EllapsedTime: 0.1 seconds RetCode: 1 Status: ERROR