Package: stJoincount Version: 1.9.0 Command: /Library/Frameworks/R.framework/Resources/bin/R CMD INSTALL stJoincount StartedAt: 2025-02-20 15:31:55 -0500 (Thu, 20 Feb 2025) EndedAt: 2025-02-20 15:33:10 -0500 (Thu, 20 Feb 2025) EllapsedTime: 75.2 seconds RetCode: 0 Status: OK