Package: stJoincount Version: 1.9.0 Command: /Library/Frameworks/R.framework/Resources/bin/R CMD build --keep-empty-dirs --no-resave-data stJoincount StartedAt: 2025-02-20 17:44:15 -0500 (Thu, 20 Feb 2025) EndedAt: 2025-02-20 17:44:47 -0500 (Thu, 20 Feb 2025) EllapsedTime: 31.4 seconds RetCode: 0 Status: OK PackageFile: stJoincount_1.9.0.tar.gz PackageFileSize: 2.672 MiB