Package: stJoincount Version: 1.9.0 Command: rm -rf stJoincount.buildbin-libdir && mkdir stJoincount.buildbin-libdir && /Users/biocbuild/BBS/utils/build-universal.sh stJoincount_1.9.0.tar.gz /Library/Frameworks/R.framework/Resources/bin/R stJoincount.buildbin-libdir StartedAt: 2025-02-20 22:37:13 -0500 (Thu, 20 Feb 2025) EndedAt: 2025-02-20 22:37:36 -0500 (Thu, 20 Feb 2025) EllapsedTime: 23.5 seconds RetCode: 0 Status: OK PackageFile: stJoincount_1.9.0.tgz PackageFileSize: 2.703 MiB