Package: ssrch Version: 1.23.0 Command: /Library/Frameworks/R.framework/Resources/bin/R CMD INSTALL ssrch StartedAt: 2025-02-20 15:24:24 -0500 (Thu, 20 Feb 2025) EndedAt: 2025-02-20 15:24:31 -0500 (Thu, 20 Feb 2025) EllapsedTime: 7.1 seconds RetCode: 0 Status: OK