Package: ssrch Version: 1.23.0 Command: /Library/Frameworks/R.framework/Resources/bin/R CMD check --install=check:ssrch.install-out.txt --library=/Library/Frameworks/R.framework/Resources/library --no-vignettes --timings ssrch_1.23.0.tar.gz StartedAt: 2025-02-20 23:35:14 -0500 (Thu, 20 Feb 2025) EndedAt: 2025-02-20 23:35:53 -0500 (Thu, 20 Feb 2025) EllapsedTime: 39.1 seconds RetCode: 0 Status: OK CheckDir: ssrch.Rcheck Warnings: 0