Package: ssrch Version: 1.23.0 Command: /Library/Frameworks/R.framework/Resources/bin/R CMD INSTALL ssrch StartedAt: 2025-02-20 15:15:28 -0500 (Thu, 20 Feb 2025) EndedAt: 2025-02-20 15:15:31 -0500 (Thu, 20 Feb 2025) EllapsedTime: 2.3 seconds RetCode: 0 Status: OK