Package: ssrch Version: 1.23.0 Command: /Library/Frameworks/R.framework/Resources/bin/R CMD build --keep-empty-dirs --no-resave-data ssrch StartedAt: 2025-02-20 17:43:57 -0500 (Thu, 20 Feb 2025) EndedAt: 2025-02-20 17:44:01 -0500 (Thu, 20 Feb 2025) EllapsedTime: 4.0 seconds RetCode: 0 Status: OK PackageFile: ssrch_1.23.0.tar.gz PackageFileSize: 1.443 MiB