Package: ssize Version: 1.81.0 Command: rm -rf ssize.buildbin-libdir && mkdir ssize.buildbin-libdir && E:\biocbuild\bbs-3.21-bioc\R\bin\R.exe CMD INSTALL --build --library=ssize.buildbin-libdir ssize_1.81.0.tar.gz StartedAt: 2025-02-21 09:12:19 -0500 (Fri, 21 Feb 2025) EndedAt: 2025-02-21 09:12:25 -0500 (Fri, 21 Feb 2025) EllapsedTime: 5.7 seconds RetCode: 0 Status: OK PackageFile: ssize_1.81.0.zip PackageFileSize: 364.4 KiB