Package: sscu Version: 2.37.0 Command: E:\biocbuild\bbs-3.21-bioc\R\bin\R.exe CMD check --no-multiarch --install=check:sscu.install-out.txt --library=E:\biocbuild\bbs-3.21-bioc\R\library --no-vignettes --timings sscu_2.37.0.tar.gz StartedAt: 2025-02-21 06:12:07 -0500 (Fri, 21 Feb 2025) EndedAt: 2025-02-21 06:13:59 -0500 (Fri, 21 Feb 2025) EllapsedTime: 112.3 seconds RetCode: 0 Status: WARNINGS CheckDir: sscu.Rcheck Warnings: 1