Package: sscu Version: 2.37.0 Command: rm -rf sscu.buildbin-libdir && mkdir sscu.buildbin-libdir && E:\biocbuild\bbs-3.21-bioc\R\bin\R.exe CMD INSTALL --build --library=sscu.buildbin-libdir sscu_2.37.0.tar.gz StartedAt: 2025-02-21 09:12:16 -0500 (Fri, 21 Feb 2025) EndedAt: 2025-02-21 09:12:39 -0500 (Fri, 21 Feb 2025) EllapsedTime: 22.1 seconds RetCode: 0 Status: OK PackageFile: sscu_2.37.0.zip PackageFileSize: 1.325 MiB