Package: sscu Version: 2.37.0 Command: /Library/Frameworks/R.framework/Resources/bin/R CMD build --keep-empty-dirs --no-resave-data sscu StartedAt: 2025-02-20 18:25:15 -0500 (Thu, 20 Feb 2025) EndedAt: 2025-02-20 18:25:33 -0500 (Thu, 20 Feb 2025) EllapsedTime: 18.3 seconds RetCode: 0 Status: OK PackageFile: sscu_2.37.0.tar.gz PackageFileSize: 1.287 MiB