Package: sscu Version: 2.37.0 Command: rm -rf sscu.buildbin-libdir && mkdir sscu.buildbin-libdir && /Users/biocbuild/BBS/utils/build-universal.sh sscu_2.37.0.tar.gz /Library/Frameworks/R.framework/Resources/bin/R sscu.buildbin-libdir StartedAt: 2025-02-21 00:55:53 -0500 (Fri, 21 Feb 2025) EndedAt: 2025-02-21 00:56:10 -0500 (Fri, 21 Feb 2025) EllapsedTime: 17.2 seconds RetCode: 0 Status: OK PackageFile: sscu_2.37.0.tgz PackageFileSize: 1.372 MiB