Package: sscu Version: 2.37.0 Command: /Library/Frameworks/R.framework/Resources/bin/R CMD INSTALL sscu StartedAt: 2025-02-21 15:04:07 -0500 (Fri, 21 Feb 2025) EndedAt: 2025-02-21 15:04:11 -0500 (Fri, 21 Feb 2025) EllapsedTime: 4.5 seconds RetCode: 0 Status: OK