Package: ssPATHS Version: 1.21.0 Command: E:\biocbuild\bbs-3.21-bioc\R\bin\R.exe CMD INSTALL ssPATHS StartedAt: 2025-02-20 16:09:58 -0500 (Thu, 20 Feb 2025) EndedAt: 2025-02-20 16:10:29 -0500 (Thu, 20 Feb 2025) EllapsedTime: 31.3 seconds RetCode: 0 Status: OK