Package: ssPATHS Version: 1.21.0 Command: E:\biocbuild\bbs-3.21-bioc\R\bin\R.exe CMD check --no-multiarch --install=check:ssPATHS.install-out.txt --library=E:\biocbuild\bbs-3.21-bioc\R\library --no-vignettes --timings ssPATHS_1.21.0.tar.gz StartedAt: 2025-02-21 06:13:15 -0500 (Fri, 21 Feb 2025) EndedAt: 2025-02-21 06:16:57 -0500 (Fri, 21 Feb 2025) EllapsedTime: 222.5 seconds RetCode: 0 Status: OK CheckDir: ssPATHS.Rcheck Warnings: 0