Package: ssPATHS Version: 1.21.0 Command: chmod a+r ssPATHS -R && E:\biocbuild\bbs-3.21-bioc\R\bin\R.exe CMD build --keep-empty-dirs --no-resave-data ssPATHS StartedAt: 2025-02-20 22:05:49 -0500 (Thu, 20 Feb 2025) EndedAt: 2025-02-20 22:06:43 -0500 (Thu, 20 Feb 2025) EllapsedTime: 54.0 seconds RetCode: 0 Status: OK PackageFile: ssPATHS_1.21.0.tar.gz PackageFileSize: 3.581 MiB